BEGIN:VCALENDAR
VERSION:2.0
PRODID:-//hacksw/handcal//NONSGML v1.0//EN
BEGIN:VEVENT
UID:a04c6862d6523c59e483f5817fa7c261
DTSTAMP:20260420T093545Z

DTSTART:20170426T210000
DTEND:20170426T210000
SUMMARY:RuneGuru OSRS Recruitment Event No. 3
DESCRIPTION:The 3rd instalment of the RuneGuru Recruitment Event takes place

IN:

Blue Moon Inn Cellar

USING:

World 327

AT:
9:00 PM RuneGuru O'Clock

ON:
26th of April


The topics will include a Progress Review of the Recruitment methods that have been mentioned during the previous Recruitment Events. A review of the expansion of the PvP Division will take place too.
LOCATION:
END:VEVENT

END:VCALENDAR
